{"text_format":"1","workbook":"xlsx","n_sheets":12,"sheets":["HA Acreages","Arizona","California","Colorado","Idaho","Montana","Nevada","New_Mexico","Oregon","Utah","Wyoming","National"],"not_rendered":{"charts":0,"images":0,"macros":1,"external_links":0,"defined_names":4,"comments":0,"pivot_tables":0},"unopened":[],"bounds":{"document_bytes":16777216,"sheet_cells":100000,"rows_first":2000,"rows_last":500,"rows_between":2000,"halvings":0,"cell_chars":16384,"cell_head_chars":4096},"cells_cut":0,"cells_raw":0,"read":"whole","date_system":"1900"}

{"sheet":"HA Acreages","index":0,"n_rows":27,"n_cols":12,"rows_kept":27,"cut":false,"hidden":false,"merged":[[2,0,2,1]]}
[null,null,null,"                                                                  Herd Area Statistics"]
[]
["FY 07 Data",null,null," "]
[null,null,null,null,null,null,null,null,null,null," "]
[null,"              Herd Area ",null,null,"      Herd Management Area",null,null,"Acres"]
[null,"BLM ","Other","Total","BLM "," Other ","Total","Transferred ","           Populations",null,null,"Total"]
[null,"Acres","Acres","Acres","Acres","Acres","Acres","from BLM","Horses","Burros","Total","AML"]
["AZ",{"$f":"Arizona!C36","v":2019932},{"$f":"Arizona!D36","v":1617998},{"$f":"B8+C8","v":3637930},{"$f":"Arizona!E36","v":1756086},{"$f":"Arizona!F36","v":1327777},{"$f":"E8+F8","v":3083863},0,{"$f":"Arizona!H36","v":215},{"$f":"Arizona!J36","v":1501},{"$f":"I8+J8","v":1716},{"$f":"SUM(Arizona!G36+Arizona!I36)","v":1600}]
["CA",{"$f":"California!C63","v":5112778},{"$f":"California!D63","v":1851661},{"$f":"B9+C9","v":6964439},{"$f":"California!E63","v":1946590},{"$f":"California!F63","v":471855},{"$f":"E9+F9","v":2418445},1477076,{"$f":"California!I63","v":2478},{"$f":"California!K63","v":635},{"$f":"I9+J9","v":3113},{"$f":"California!H63+California!J63","v":2199}]
["CO",{"$f":"Colorado!C32","v":658119},{"$f":"Colorado!D32","v":76572},734691,{"$f":"Colorado!E32","v":366098},{"$f":"Colorado!F32","v":38656},404754,0,{"$f":"Colorado!H32","v":771},0,771,{"$f":"SUM(Colorado!G32+Colorado!I32)","v":812}]
["ID",{"$f":"Idaho!C34","v":428421},{"$f":"Idaho!D34","v":49235},477656,{"$f":"Idaho!E34","v":377907},{"$f":"Idaho!F34","v":40287},418194,0,{"$f":"Idaho!H34","v":803},0,803,{"$f":"SUM(Idaho!G34+Idaho!I34)","v":617}]
["MT",{"$f":"Montana!C31","v":104361},{"$f":"Montana!D31","v":119242},223603,{"$f":"Montana!E31","v":28282},{"$f":"Montana!F31","v":8865},37147,0,{"$f":"Montana!H31","v":154},0,154,{"$f":"SUM(Montana!G31+Montana!I31)","v":105}]
["NV",{"$f":"Nevada!#REF!","v":{"$error":"#REF!"}},{"$f":"Nevada!#REF!","v":{"$error":"#REF!"}},{"$error":"#REF!"},{"$f":"Nevada!#REF!","v":{"$error":"#REF!"}},{"$f":"Nevada!#REF!","v":{"$error":"#REF!"}},{"$f":"E13+F13","v":{"$error":"#REF!"}},444112,{"$f":"Nevada!#REF!","v":{"$error":"#REF!"}},{"$f":"Nevada!#REF!","v":{"$error":"#REF!"}},{"$error":"#REF!"},{"$f":"SUM(Nevada!#REF!+Nevada!#REF!)","v":{"$error":"#REF!"}}]
["NM",{"$f":"New_Mexico!C29","v":88653},{"$f":"New_Mexico!D29","v":37874},126527,{"$f":"New_Mexico!E29","v":24505},{"$f":"New_Mexico!F29","v":4107},28612,0,{"$f":"New_Mexico!H29","v":89},0,89,{"$f":"SUM(New_Mexico!G29+New_Mexico!I29)","v":83}]
["OR",{"$f":"Oregon!C62","v":3559935},{"$f":"Oregon!D62","v":785250},4345185,{"$f":"Oregon!E62","v":2703409},{"$f":"Oregon!F62","v":259726},2963135,0,{"$f":"Oregon!H62","v":2092},{"$f":"Oregon!J62","v":15},2107,{"$f":"Oregon!G62+Oregon!I62","v":2715}]
["UT",{"$f":"Utah!C57","v":3236178},{"$f":"Utah!D57","v":689176},3925354,{"$f":"Utah!E57","v":2462726},{"$f":"Utah!F57","v":374614},2837340,79120,{"$f":"Utah!I57","v":2543},{"$f":"Utah!K57","v":195},2738,{"$f":"SUM(Utah!H57+Utah!J57)","v":2151}]
["WY",{"$f":"Wyoming!C68","v":7297778},{"$f":"Wyoming!D68","v":3030010},10327788,{"$f":"Wyoming!E68","v":3638330},{"$f":"Wyoming!F68","v":1137121},4775451,0,{"$f":"Wyoming!H68","v":4077},0,4077,{"$f":"SUM(Wyoming!G68+Wyoming!I68)","v":3725}]
["TOTAL",{"$f":"SUM(B8:B17)","v":{"$error":"#REF!"}},{"$f":"SUM(C8:C17)","v":{"$error":"#REF!"}},{"$error":"#REF!"},{"$error":"#REF!"},{"$error":"#REF!"},{"$error":"#REF!"},{"$f":"SUM(H8:H17)","v":2000308},{"$error":"#REF!"},{"$error":"#REF!"},{"$error":"#REF!"},{"$f":"SUM(L8:L17)","v":{"$error":"#REF!"}}]
[]
["Herd Management Areas and Herd Areas have been placed in separate tables by state.  "]
["Herd Area statistics are a reflection of each state's current estimated population information as of February 28, 2007.  "]
["Populations do not reflect any changes after February, 2007. (i.e. foal crops or gathers).  "]
["BLM policy is to establish AML as a range with upper and lower levels, the numbers displayed represents the upper limit."]
["Gather Mo/Year is based on 10 or more animals removed during the fiscal year."]
["Acres have been calculated using current digitized (GIS) maps."]
["Year Reach AML column displays the last time AML was achieved on the HMA."]
["Acreage transferred from BLM to another agency is not deducted from the HA acreage."]

{"sheet":"Arizona","index":1,"n_rows":45,"n_cols":16,"rows_kept":45,"cut":false,"hidden":false,"merged":[]}
["ARIZONA WILD HORSE AND BURRO AREAS ADMINISTRATED BY THE BUREAU OF LAND MANAGEMENT",null,null,null,null,null,null,"FY 07"]
[]
["HERD MANAGEMENT AREAS (HMAs) - AREAS MANAGED FOR WILD HORSES AND BURROS"]
[null,null,null,null,null,null,null,null,null,null,null,null,null,null,null,"YEAR AML "]
[null,null,"         HERD","AREA","HERD MANAGEMENT AREA",null,null,null,null,null,"Last","Year","        RANGE OF AML",null,null,"WAS"]
[null,"Herd","BLM","Other","BLM","Other","Horse","Estimated","Burro","Estimated","Gather","Reach","HIGH","MID","LOW","ESTABLISHED"]
["HERD AREA NAME","Code","Acres"," Acres"," Acres"," Acres"," AML (1,2) ","Horse Pop"," AML (1,2)","Burro Pop","Mo/Year","AML"]
["ALAMO (3) ","AZ0005",288094,52950,288094,52950,0,0,200,151,"2003-06-01",2003,null,200,null,1983]
["BIG SANDY (3)","AZ0004",192155,51750,192155,51750,0,0,139,137,"2003-06-01",2003,null,139,null,1981]
["BLACK MOUNTAIN","AZ0003",574833,519476,566402,440379,0,0,478,434,"2003-12-01",2001,null,478,null,1978]
["CERBAT MOUNTAINS","AZ0002",60448,22595,60448,22595,90,60,0,0,"1995-03-01",null,null,0,null,2005]
["CIBOLA-TRIGO","AZ0011",281388,746513,279595,639343,150,135,165,180,"2003-12-01",2002,null,285,null,1975]
["HAVASU (3)","AZ0010",308625,101688,308573,78119,0,0,170,209,"2002-12-01",2005,null,170,null,1975]
["LAKE PLEASANT","AZ0006",60819,42641,60819,42641,0,0,208,208,"2002-07-01",2001,null,208,null,1989]
["                                            TOTAL",null,{"$f":"SUM(C8:C14)","v":1766362},1537613,1756086,1327777,240,195,1360,1319,null,null,null,{"$f":"SUM(N8:N14)","v":1480}]
[]
["1.  Appropriate Management Levels, indicates estimated AML."]
["2.  AML is reported as the maxium number of animals sustainable on a yearlong basis."]
["3.  Three Rivers Complex - AML 509 Alamo, Big Sandy, Havasu"]
[]
["HERD AREAS (HAs) - AREAS NOT MANAGED FOR WILD HORSES AND BURROS"]
[]
[null,null,"HERD"," AREA    ",null,null,"Last"]
[null,"Herd","BLM","Other","Estimated","Estimated","Gather"]
["HERD AREA NAME","Code","Acres"," Acres","Horse Pop","Burro Pop","Mo/Year"]
["HARQUAHALA","AZ0008",117466,8788,0,47,"2002-06-01"]
["LITTLE HARQUAHALA MOUNTAINS","AZ0009",51945,13946,0,0,"1997-09-01"]
["PAINTED ROCKS","AZ0007",31286,7452,0,25,"1999-09-01"]
["TASSI-GOLD BUTTE","AZ0001",52873,50199,0,10,"2002-01-01"]
["OUTSIDE OF HERD AREAS","AZ000Z",null," ",20,100,"2002-03-01"]
["                                             TOTAL",null,{"$f":"SUM(C26:C30)","v":253570},{"$f":"SUM(D26:D30)","v":80385},{"$f":"SUM(E26:E30)","v":20},{"$f":"SUM(F26:F30)","v":182}]
[]
[null,null,"HERD","AREA","HERD MANAGEMENT AREA"]
[null,null,"BLM","Other","BLM","Other","Horse","Estimated","Burro ","Estimated"]
[" ",null,"Acres"," Acres"," Acres"," Acres","AML","Horse Pop","AML","Burro Pop"]
["ARIZONA SUMMARY"," ",{"$f":"SUM(C15+C31)","v":2019932},{"$f":"SUM(D15+D31)","v":1617998},{"$f":"SUM(E15)","v":1756086},{"$f":"SUM(F15)","v":1327777},{"$f":"SUM(G15)","v":240},{"$f":"SUM(H15+E31)","v":215},{"$f":"SUM(I15)","v":1360},{"$f":"SUM(J15+F31)","v":1501}," "]
[]
["ARIZONA SUMMARY",null," "]
["# of HMAs where WH&B AML is Established:",null,null,6]
["# of HMAs where WH&B AML is Estimated:",null,null,1]
["# of HMAs at AML:",null,null,6]
["# of HMAs with Zero AML:",null,null,0]
["* Only BLM acres displayed/Managed by USFS. ",null,null,0]
["** Only BLM acres displayed/Managed by BLM. ",null,null,0]
["*** Only BLM acres displayed/Not managed. ",null,null,0]

{"sheet":"California","index":2,"n_rows":72,"n_cols":20,"rows_kept":72,"cut":false,"hidden":false,"merged":[]}
["CALIFORNIA WILD HORSE AND BURRO AREAS ADMINISTRATED BY THE BUREAU OF LAND MANAGEMENT",null,null,null,null,null,null,null,"FY 07"]
[]
["HERD MANAGEMENT AREAS (HMAs) - AREAS MANAGED FOR WILD HORSES AND BURROS"]
[null,null,null,null,null,null,null,null,null,null,null,null,null,null,null,null,"YEAR AML "]
[null,null,"        HERD"," AREA","HERD MANAGEMENT AREA",null,"Acres",null,null,null,null,"Last","Year","        RANGE OF AML",null,null,"WAS"]
[null,"Herd","BLM","Other","BLM","Other","Transferred","Horse","Estimated","Burro","Estimated","Gather","Reach","HIGH","MID","LOW","ESTABLISHED"]
["HERD AREA NAME","Code","Acres"," Acres"," Acres"," Acres","from BLM"," AML (1,2) ","Horse Pop"," AML (1,2)","Burro Pop","Mo/Year","AML"]
["BITNER ","CA0267",47526,2907,47526,2907,0,25,85,0,0,"1993-10-01",2003,25,20,15,1993]
["BUCKHORN","CA0262",67234,8892,67234,8892,0,85,287,0,0,"2003-11-01",2004,85,72,59,1995]
["CARTER RESERVOIR ","CA0269",21062,1872,21062,1872,0,35,108,0,0,"2003-08-01",2004,35,30,25,2003]
["CENTENNIAL","CA0654",358574,671783,71353,247147,6987,168,168,0,45,"2006-12-01",2007,168,134,100,1980]
["CHEMEHUEVI","CA0698",377671,31522,105253,8228,0,0,0,108,174,"2003-05-01",2004,108,87,65,2002]
["CHICAGO VALLEY","CA0681",311718,21310,258409,19189,17591,12,6,0,0,"2005-09-01",2005,12,6,4,2002,null,null," "]
["CHOCOLATE-MULE MOUNTAINS","CA0671",340947,254909,150757,8404,0,0,0,121,104,"2006-03-01",2006,121,94,70,2002]
["COPPERSMITH ","CA0261",60114,13216,60114,13216,0,75,78,0,0,"2005-07-01",2005,75,63,50,1995]
["FORT SAGE","CA0241",13649,2257,13649,2257,0,65,50,0,0,"1988-09-01",2001,65,null,55,1983]
["FOX HOG","CA0263",92223,4577,92223,4577,0,220,144,0,0,"2005-08-01",2005,220,170,120,1999]
["HIGH ROCK","CA0264",138510,527,94606,94,0,120,124,0,0,"2006-09-01",2006,120,99,78,2001]
["LEE FLAT","CA0652",133360,2149,71940,1308,47161,0,0,15,0,"2001-10-01",2006,15,13,10,1994]
["MASSACRE LAKES","CA0268",63077,2581,35872,1478,0,20,131,0,0,"1988-10-01",1988,20,15,10,2005]
["NEW RAVENDALE","CA0243",23451,8731,9348,5548,0,25,49,0,0,"2004-07-01",2004,25,15,10,1985]
["NUT MOUNTAIN ","CA0266",38327,1793,38327,1793,0,55,179,0,0,"2000-10-01",2001,55,43,30,1993]
["PALM CANYON","CA0662",2758,6773,2758,6773,0,6,0,0,0,"2002-08-01",2002,6,4,4,1980]
["PIPER MOUNTAIN","CA0656",95937,8397,87876,8312,7742,17,0,82,0,"1994-04-01",null," 17H   82B","14H  67B","11H 50B            ",1980]
["RED ROCK LAKES","CA0251",13464,5146,13464,5146,0,25,89,0,0,"2003-09-01",2004,null,null,null,1985]
["TWIN PEAKS","CA0242",636231,121841,636231,121841,0,758,779,116,86,"2006-08-01",2006,758,603,448,2001]
["WALL CANYON ","CA0265",38909,2243,38909,2243,0,25,82,0,0,"2001-11-01",2004,25,20,15,1993]
["WAUCOBA-HUNTER MOUNTAIN**","CA0651",464307,5932,22042,537,424868,0,0,11,13,"2001-10-01",2004,11,9,7,1994]
["ROUND MOUNTAIN (Devils Garden Plateau)*","CA0252",7637,93,7637,93,0,10,12,0,0,"2004-08-01",2005,10]
["                                            TOTAL",null,{"$f":"SUM(C8:C29)","v":3346686},{"$f":"SUM(D8:D29)","v":1179451},1946590,471855,504349,1746,2371,453,422,null,null,2058,1578,1236]
[]
["1.  Appropriate Management Levels, indicates estimated AML."]
["2.  AML is reported as the maxium number of animals sustainable on a yearlong basis."]
[]
["HERD AREAS (HAs) - AREAS NOT MANAGED FOR WILD HORSES AND BURROS"]
[]
[null,null,"HERD"," AREA    ","Acres",null,null,"Last"]
[null,"Herd","BLM","Other","Transferred","Estimated","Estimated","Gather"]
["HERD AREA NAME","Code","Acres"," Acres","from BLM","Horse Pop","Burro Pop","Mo/Year"]
["CIMA DOME","CA0695",90429,2772,93201,0,0,"1992-12-01"]
["CLARK MOUNTAIN","CA0691",217231,16139,37376,0,45,"2007-01-01"]
["COYOTE CANYON","CA0663",285,21135,0,0,0]
["DEAD MOUNTAIN","CA0697",38580,4178,0,0,29,"1982-04-01"]
["GRANITE-PROVIDENCE MOUNTAINS","CA0693",174209,18533,186481,0,0,"1999-08-01"]
["KRAMER","CA0682",5646,8378,0,0,0,"1990-01-01"]
["LAVA BEDS","CA0692",170681,8564,177600,0,0,"1997-05-01"]
["MORONGO","CA0661",27438,11098,0,0,0,"1988-02-01"]
["NEW YEARS LAKE  (in CA0269)","CA0260",256352,59917,0,0,0]
["PANAMINT","CA0653",360407,54292,201326,0,30,"2004-03-01"]
["PICACHO (within CA0671)","CA0672",0,0,0,0,0,"2002-11-01"]
["PIUTE MOUNTAIN","CA0696",37335,2445,0,0,29,"1987-10-01"]
["SAND SPRING-LAST CHANCE","CA0657",233152,7428,198812,0,0,"1995-05-01"]
["SHAFFER MOUNTAIN","CA0240",29358,7510,0,0,0]
["SLATE RANGE","CA0655",75713,437249,21387,0,30,"2007-01-01"]
["TULEDAD (in CA0261 & CA0262)","CA0270",2933,2371,0,0,0]
["WOODS-HACKBERRY","CA0694",46343,10201,56544,0,0,"1992-12-01"]
["OUTSIDE OF HERD AREAS","CA000Z",null,null,0,107,50,"2007-01-01"]
["                                              TOTAL",null,{"$f":"SUM(C40:C57)","v":1766092},{"$f":"SUM(D40:D57)","v":672210},{"$f":"SUM(E40:E57)","v":972727},{"$f":"SUM(F40:F57)","v":107},{"$f":"SUM(G40:G57)","v":213}]
[]
[null,null,"HERD","AREA"," HERD MANAGEMENT AREA",null,"Acres"]
[" ",null,"BLM","Other","BLM","Other","Transferred","Horse","Estimated","Burro ","Estimated"]
[null,null,"Acres"," Acres"," Acres"," Acres","from BLM","AML","Horse Pop","AML","Burro Pop"]
["CALIFORNIA SUMMARY"," ",{"$f":"SUM(C30+C58)","v":5112778},{"$f":"SUM(D30+D58)","v":1851661},{"$f":"SUM(E30)","v":1946590},{"$f":"SUM(F30)","v":471855},{"$f":"SUM(G30+E58)","v":1477076},{"$f":"SUM(H30)","v":1746},{"$f":"SUM(I30+F57)","v":2478},{"$f":"SUM(J30)","v":453},{"$f":"SUM(K30+G58)","v":635}," "]
[]
["CALIFORNIA SUMMARY",null," "]
["# of HMAs where WH&B AML is Established:",null,null,22]
["# of HMAs where WH&B AML is Estimated:",null,null,0,null,null,null,null,"  "]
["# of HMAs at AML:",null,null,8]
["# of HMAs with Zero AML:",null,null,0]
["* Only BLM acres displayed/Managed by USFS. ",null,null,1]
["** Only BLM acres displayed/Managed by BLM. ",null,null,2]
["*** Only BLM acres displayed/Not managed. ",null,null,0," "]

{"sheet":"Colorado","index":3,"n_rows":41,"n_cols":16,"rows_kept":41,"cut":false,"hidden":false,"merged":[]}
["COLORADO WILD HORSE AND BURRO AREAS ADMINISTRATED BY THE BUREAU OF LAND MANAGEMENT",null,null,null,null,null,null,null,null,"FY 07"]
[]
["HERD MANAGEMENT AREAS (HMAs) - AREAS MANAGED FOR WILD HORSES AND BURROS"]
[null,null,null,null,null,null,null,null,null,null,null,null,null,null,null,"YEAR AML "]
[null,null,"         HERD","AREA","HERD MANAGEMENT AREA",null,null,null,null,null,"Last","Year","        RANGE OF AML",null,null,"WAS"]
[null,"Herd","BLM","Other","BLM","Other","Horse","Estimated","Burro","Estimated","Gather","Reach","HIGH","MID","LOW","ESTABLISHED"]
["HERD AREA NAME","Code","Acres"," Acres"," Acres"," Acres"," AML (1,2) ","Horse Pop"," AML (1,2)","Burro Pop","Mo/Year","AML"]
["LITTLE BOOK CLIFFS WILD HORSE RANGE","CO0766",51086,1601,35205,925,150,141,0,0,"2004-10-04",2005,150,120,90,2002]
["PICEANCE-EAST DOUGLAS CREEK","CO0161",158281,31741,158281,31741,235,206,0,0,"2006-09-01",2006,235,185,135,2002]
["SAND WASH BASIN","CO0143",151548,5092,151548,5092,362,202,0,0,"2005-09-01",2005,362,265,163,2001]
["SPRING CREEK BASIN","CO0384",43101,11500,21064,898,65,94,0,0,"2005-08-01",2005,65,50,35,1995]
["                                               TOTAL",null,{"$f":"SUM(C8:C11)","v":404016},49934,366098,38656,{"$f":"SUM(G8:G11)","v":812},643,0,0,null,null,{"$f":"SUM(M8:M11)","v":812},{"$f":"SUM(N8:N11)","v":620},{"$f":"SUM(O8:O11)","v":423}]
[]
["1.  Appropriate Management Levels, indicates estimated AML."]
["2.  AML is reported as the maxium number of animals sustainable on a yearlong basis."]
[]
["HERD AREAS (HAs) - AREAS NOT MANAGED FOR WILD HORSES AND BURROS"]
[]
[null,null,"HERD"," AREA    ",null,null,"Last"," "]
[null,"Herd","BLM","Other","Estimated","Estimated","Gather"]
["HERD AREA NAME","Code","Acres"," Acres","Horse Pop","Burro Pop","Mo/Year"]
["DOUGLAS MOUNTAIN","CO0144",65829,10892,0,0]
["NATURITA RIDGE","CO0345",53803,9490,0,0]
["NORTH PICEANCE (in CO0161)","CO0163",76959,12396,12,0,"2006-09-01"," "]
["WEST DOUGLAS CREEK","CO0162",123341,4752,101,0,"2006-10-01"]
["OUTSIDE OF HERD AREAS","CO000Z",null,null,15,0,"2006-09-01"]
["                                                TOTAL",null,{"$f":"SUM(C23:C26)","v":254103},{"$f":"SUM(D23:D26)","v":26638},{"$f":"SUM(E23:E26)","v":128},{"$f":"SUM(F23:F26)","v":0}]
[" ",null,null,null,null," "," "]
[null,null,"HERD","AREA","   HERD MANAGEMENT AREA"]
[null,null,"BLM","Other","BLM","Other","Horse","Estimated","Burro ","Estimated"]
[" ",null,"Acres"," Acres","Acres"," Acres","AML","Horse Pop","AML","Burro Pop"]
["COLORADO SUMMARY"," ",{"$f":"SUM(C12+C27)","v":658119},{"$f":"SUM(D12+D27)","v":76572},{"$f":"SUM(E12)","v":366098},{"$f":"SUM(F12)","v":38656},{"$f":"SUM(G12)","v":812},{"$f":"SUM(H12+E27)","v":771},{"$f":"SUM(I12)","v":0},{"$f":"SUM(J12+F27)","v":0}]
[]
["COLORADO SUMMARY",null," "]
["# of HMAs where WH&B AML is Established:",null,4]
["# of HMAs where WH&B AML is Estimated:",null,0]
["# of HMAs at AML:",null,3]
["# of HMAs with Zero AML:",null,0]
["* Only BLM acres displayed/Managed by USFS. ",null,0]
["** Only BLM acres displayed/Managed by BLM. ",null,0]
["*** Only BLM acres displayed/Not managed. ",null,0]

{"sheet":"Idaho","index":4,"n_rows":43,"n_cols":16,"rows_kept":43,"cut":false,"hidden":false,"merged":[]}
["IDAHO WILD HORSE AND BURRO AREAS ADMINISTRATED BY THE BUREAU OF LAND MANAGEMENT",null,null,null,null,null,null,"FY 07"]
[]
["HERD MANAGEMENT AREAS (HMAs) - AREAS MANAGED FOR WILD HORSES AND BURROS"]
[null,null,null,null,null,null,null,null,null,null,null,null,null,null,null,"YEAR AML "]
[null,null,"        HERD","AREA","HERD MANAGEMENT AREA",null,null,null,null,null,"Last","Year","        RANGE OF AML",null,null,"WAS"]
[null,"Herd","BLM","Other","BLM","Other","Horse","Estimated","Burro","Estimated","Gather","Reach","HIGH","MID","LOW","ESTABLISHED"]
["HERD AREA NAME","Code","Acres"," Acres"," Acres"," Acres"," AML (1,2) ","Horse Pop"," AML (1,2)","Burro Pop","Mo/Year","AML"]
["BLACK MOUNTAIN","ID0006",46636,4717,46546,4357,60,73,0,0,"2005-08-01",2005,60,45,30,1999]
["CHALLIS","ID0005",156563,11288,156563,11288,253,265,0,0,"2004-08-01",2004,253,219,185,1999]
["FOUR MILE","ID0002",21002,4803,15995,2040,60,71,0,0,"2003-11-01",2004,60,49,37,2001]
["HARD TRIGGER","ID0007",62159,7722,60118,7697,130,208,0,0,"2003-11-01",2004,130,98,66,1999]
["SAND BASIN","ID0004",9448,2267,9448,2267,64,60,0,0,"2003-10-01",2004,64,49,33,1999]
["SAYLOR CREEK","ID0003",89237,12638,89237,12638,50,126,0,0,"2005-08-01",2005]
["                                               TOTAL",null,{"$f":"SUM(C8:C13)","v":385045},43435,377907,40287,617,803,0,0,null,null,{"$f":"SUM(M8:M13)","v":567},{"$f":"SUM(N8:N13)","v":460},{"$f":"SUM(O8:O13)","v":351}]
[]
["1.  Appropriate Management Levels, indicates estimated AML."]
["2.  AML is reported as the maxium number of animals sustainable on a yearlong basis.",null,null,null,null,null," "]
[]
["HERD AREAS (HAs) - AREAS NOT MANAGED FOR WILD HORSES AND BURROS"]
[]
[null,null,"HERD"," AREA    ",null,null,"Last"]
[null,"Herd","BLM","Other","Estimated","Estimated","Gather"]
["HERD AREA NAME","Code","Acres"," Acres","Horse Pop","Burro Pop","Mo/Year"]
["MORGAN CREEK","ID0009",21230,2816,0,0]
["SHEEP MOUNTAIN","ID0008",13899,893,0,0]
["WEST CRANE CREEK","ID0001",8247,2091,0,0,"1989-09-01"]
["OUTSIDE OF HERD AREAS","ID000Z",null,null,0,0]
["DIAMOND (All claimed-not mapped)","ID0010"," "," "," "]
["                                               TOTAL"," ",{"$f":"SUM(C24:C28)","v":43376},{"$f":"SUM(D24:D28)","v":5800},{"$f":"SUM(E24:E28)","v":0},{"$f":"SUM(F24:F28)","v":0}]
[]
[null,null,"HERD","AREA","   HERD MANAGEMENT AREA"]
[null,null,"BLM","Other","BLM","Other","Horse","Estimated","Burro ","Estimated"]
[" ",null,"Acres"," Acres","Acres"," Acres","AML","Horse Pop","AML","Burro Pop"]
["IDAHO SUMMARY"," ",{"$f":"SUM(C14+C29)","v":428421},{"$f":"SUM(D14+D29)","v":49235},{"$f":"SUM(E14)","v":377907},{"$f":"SUM(F14)","v":40287},{"$f":"SUM(G14)","v":617},{"$f":"SUM(H14+E29)","v":803},{"$f":"SUM(I11)","v":0},{"$f":"SUM(J14+F29)","v":0}]
[]
["IDAHO SUMMARY",null," "]
["# of HMAs where WH&B AML is Established:",null,6]
["# of HMAs where WH&B AML is Estimated:",null,0]
["# of HMAs at AML:",null,1]
["# of HMAs with Zero AML:",null,0]
["* Only BLM acres displayed/Managed by USFS. ",null,0]
["** Only BLM acres displayed/Managed by BLM. ",null,0," "," "," "," "]
["*** Only BLM acres displayed/Not managed. ",null,0]

{"sheet":"Montana","index":5,"n_rows":40,"n_cols":16,"rows_kept":40,"cut":false,"hidden":false,"merged":[]}
["MONTANA WILD HORSE AND BURRO AREAS ADMINISTRATED BY THE BUREAU OF LAND MANAGEMENT",null,null,null,null,null,null,"FY 07"]
[]
["HERD MANAGEMENT AREAS (HMAs) - AREAS MANAGED FOR WILD HORSES AND BURROS"]
[null,null,null,null,null,null,null,null,null,null,null,null,null,null,null,"YEAR AML "]
[null,null,"         HERD","AREA"," HERD MANAGEMENT AREA",null,null,null,null,null,"Last","Year","        RANGE OF AML",null,null,"WAS"]
[null,"Herd","BLM","Other","BLM","Other","Horse","Estimated","Burro","Estimated","Gather","Reach","HIGH","MID","LOW","ESTABLISHED"]
["HERD AREA NAME","Code","Acres"," Acres"," Acres"," Acres"," AML (1,2) ","Horse Pop"," AML (1,2)","Burro Pop","Mo/Year","AML"]
["PRYOR MOUNTAIN WILD HORSE RANGE**","MT0251",28282,8865,28282,8865,105,154,0,0,"2003-09-01",1997,105,95,85,1997]
["                                         TOTAL",null,{"$f":"SUM(C8)","v":28282},8865,28282,8865,105,154,0,0," ",null,{"$f":"SUM(M8)","v":105},{"$f":"SUM(N8)","v":95},{"$f":"SUM(O8)","v":85}]
[]
["1.  Appropriate Management Levels, indicates estimated AML."]
["2.  AML is reported as the maxium number of animals sustainable on a yearlong basis.  MT does not include foals in their count."]
[]
["HERD AREAS (HAs) - AREAS NOT MANAGED FOR WILD HORSES AND BURROS"]
[]
[null,null,"         HERD"," AREA    ",null,null,"Last"]
[null,"Herd","BLM","Other","Estimated","Estimated","Gather"]
["HERD AREA NAME","Code","Acres"," Acres","Horse Pop","Burro Pop","Mo/Year"]
["BARTON GULCH","MT0253",8087,10396,0,0]
["DEVILS FENCE","MT0254",16414,52050,0,0]
["ERVIN RIDGE","MT0252",6587,5175,0,0]
["GARDEN CREEK","MT0255",13351,12900,0,0]
["ROCKY HILLS","MT0257",25552,13815,0,0]
["SWEETWATER","MT0256",6088,16041,0,0]
["OUTSIDE OF HERD AREAS","MT000Z",null,null,0,0,"2003-09-01"]
["                                          TOTAL"," ",{"$f":"SUM(C19:C24)","v":76079},{"$f":"SUM(D19:D24)","v":110377},{"$f":"SUM(E19:E25)","v":0},{"$f":"SUM(F19:F25)","v":0}]
[]
[null,null,"HERD","AREA","  HERD MANAGEMENT AREA"]
[null,null,"BLM","Other","BLM","Other","Horse","Estimated","Burro ","Estimated"]
[" ",null,"Acres"," Acres","Acres"," Acres","AML","Horse Pop","AML","Burro Pop"]
["MONTANA SUMMARY"," ",{"$f":"SUM(C26+C9)","v":104361},{"$f":"SUM(D26+D9)","v":119242},{"$f":"SUM(E9)","v":28282},{"$f":"SUM(F9)","v":8865},{"$f":"SUM(G9)","v":105},{"$f":"SUM(E26+H9)","v":154},{"$f":"SUM(I9)","v":0},{"$f":"SUM(F26+J9)","v":0}]
[]
["MONTANA SUMMARY",null," "]
["# of HMAs where WH&B AML is Established:",null,null,1]
["# of HMAs where WH&B AML is Estimated:",null,null,0]
["# of HMAs at AML:",null,null,0]
["# of HMAs with Zero AML:",null,null,0]
["* Only BLM acres displayed/Managed by USFS. ",null,null,0]
["** Only BLM acres displayed/Managed by BLM. ",null,null,1]
["*** Only BLM acres displayed/Not managed. ",null,null,0]

{"sheet":"Nevada","index":6,"n_rows":38,"n_cols":14,"rows_kept":38,"cut":false,"hidden":false,"merged":[]}
[]
[null,"PROJECTED 2/28/09 POPULATION ESTIMATES -- HMAS ABOVE AML",null,null,null,"2008-07-09"]
[null,null,"Horse","Estimated","Burro","Estimated",null,null,null,null,"Horse","Estimated","Burro","Estimated"]
[null,"HERD AREA NAME"," AML (1,2) ","Horse Pop"," AML (1,2)","Burro Pop",null,null,null,"HERD AREA NAME"," AML (1,2) ","Horse Pop"," AML (1,2)","Burro Pop"]
[1,"ANTELOPE",324,378,0,0,null,null,22,"MONTE CRISTO**",236,326,0,0]
[2,"ANTELOPE VALLEY",259,371,0,0,null,null,23,"MONTEZUMA PEAK",0,50,0,25]
[null,"APPLEWHITE",1,7,0,0,null,null,null,"MUDDY MOUNTAINS",0,4,0,0]
["Proposed Wtr 2009","BALD MOUNTAIN",215,612,0,0,null,null,"Gathered 7/08","NEVADA WILD HORSE RANGE",500,300]
["3 - Funds requested","BLACK ROCK RANGE EAST",93,264,0,0,null,null,"Gathered 7/08","NORTH STILLWATER",205,122,0,1]
["4 - Funds requested","BLACK ROCK RANGE WEST",93,507,0,0,null,null,"24 - Prop'd Summer 09","OWYHEE",231,538,0,0]
[null,"BLUE NOSE PEAK",1,7,0,0,null,null,25,"PAYMASTER",38,47,0,0]
[5,"BUCK-BALD**",423,504,0,0,null,null,26,"PINE NUT MOUNTAINS",179,219,0,0]
[6,"BUFFALO HILLS",314,650,0,0,null,null,"27 - Proposed Sum '09","ROCK CREEK",250,311,0,0]
[7,"BUTTE",95,114,0,0,null,null,"Proposed Wtr 2009","ROCKY HILLS",143,177,0,0]
["8 - Funds requested","CALICO MOUNTAINS",333,675,0,null,null,null,28,"SAND SPRINGS EAST",257,571,0,0]
["Proposed Wtr 2009","CALLAGHAN",237,999,0,0,null,null,29,"SAND SPRINGS WEST",49,212,0,0]
[null,"CHERRY CREEK ",0,13,0,0,null,null,30,"SEAMAN",159,210,0,0]
[9,"CLOVER MOUNTAINS",16,94,0,0,null,null,31,"SEVEN MILE**",50,118,0,0]
[10,"DESATOYA",180,330,0,0,null,null,null,"SILVER PEAK",0,2,0,2]
[11,"DIAMOND",151,156,0,0,null,null,"32 - Prop'd Summer 09","SNOWSTORM MOUNTAINS",140,215,0,0]
[12,"DIAMOND HILLS NORTH",37,65,0,0,null,null,33,"SPRUCE-PEQUOP",82,173,0,0]
[13,"DIAMOND HILLS SOUTH",22,193,0,0,null,null,null,"STONEWALL",0,0,8,22]
[14,"DRY LAKE",94,316,0,0,null,null,"34 - Prop'd Summer 09","TOBIN RANGE",42,257,0,0]
["Gathered 7/08","FOX-LAKE RANGE",204,164,0,0,null,null,"35 - Funds requested","WARM SPRINGS CANYON",175,716,24,27]
[15,"GARFIELD FLAT",125,143,0,0,null,null,null,"WASSUK",165,177,0,0]
[16,"GOSHUTE",123,233,0,0,null,null,36,"WHITE RIVER",90,114,0,0]
[null,"GRANITE PEAK",18,23,0,0,null,null,37,"WILSON CREEK",160,463,0,0]
[17,"GRANITE RANGE",258,364,0,0,null,null,null,"NORTH MONITOR*",8,12,0,0]
[18,"HIGHLAND PEAK",33,42,0,0,null,null,null,"TOTAL",{"$f":"SUM(C5:C60)","v":4008},{"$f":"SUM(D5:D60)","v":7961},{"$f":"SUM(E5:E60)","v":108},{"$f":"SUM(F5:F60)","v":102}]
[null,"JAKES WASH",21,30,0,0,null,null,null,"LOW AML",2400,5561,65,37]
[20,"JOHNNIE**",0,59,108,102]
[null,"LAHONTAN",10,40,0,0,null,null,null,"Background Information"]
[null,"LITTLE MOUNTAIN",15,29,0,0,null,null,null,"2/28/08 Population Estimate",16606,"(Includes 5/08 Data for Monte Cristo Complex)"]
["21 - Prop'd Summer 09","LITTLE OWYHEE",298,540,0,0,null,null,null,"Projected 2/28/09 Estimate",19761,"(2008 Foal Crop…19% per year average growth rate)"]
[null,"MEADOW VALLEY MOUNTAINS",0,7,0,0,null,null,null,"Minus Summer 2008 Gathers",-1518]
[null,"MILLER FLAT",15,32,0,0,null,null,null,"Current Est'd Population",{"$f":"SUM(K34:K35)","v":18243}]
[null,null,null,null,null,null,null,null,null,"AML ",-13098]
[null,null,null,null,null,null,null,null,null,"Number Over AML",{"$f":"SUM(K36:K37)","v":5145},"(39% Above AML)"]

{"sheet":"New_Mexico","index":7,"n_rows":38,"n_cols":16,"rows_kept":38,"cut":false,"hidden":false,"merged":[]}
["NEW MEXICO WILD HORSE AND BURRO AREAS ADMINISTRATED BY THE BUREAU OF LAND MANAGEMENT",null,null,null,null,null,null,null,"FY 07"]
[]
["HERD MANAGEMENT AREAS (HMAs) - AREAS MANAGED FOR WILD HORSES AND BURROS"]
[null,null,null,null,null,null,null,null,null,null,null,null,null,null,null,"YEAR AML "]
[null,null,"         HERD"," AREA","HERD MANAGEMENT AREA",null,null,null,null,null,"Last","Year","        RANGE OF AML",null,null,"WAS"]
[null,"Herd","BLM","Other","BLM","Other","Horse","Estimated","Burro","Estimated","Gather","Reach","HIGH","MID","LOW","ESTABLISHED"]
["HERD AREA NAME","Code","Acres"," Acres"," Acres"," Acres"," AML (1,2) ","Horse Pop"," AML (1,2)","Burro Pop","Mo/Year","AML"]
["BORDO ATRAVESADO","NM0001",16486,3128,16486,3128,60,77,0,0,"2005-08-01",2005,60,50,40,"*****"]
["CARRACAS MESA*(3)","NM0003",8019,979,8019,979,23,12,0,0,null,null,23]
["                                        TOTAL"," ",{"$f":"SUM(C8:C9)","v":24505},{"$f":"SUM(D8:D9)","v":4107},{"$f":"SUM(C8:C9)","v":24505},{"$f":"SUM(F8+F9)","v":4107},{"$f":"SUM(G8:G9)","v":83},{"$f":"SUM(H8:H9)","v":89},{"$f":"SUM(I8)","v":0},{"$f":"SUM(J8)","v":0}," ",null,{"$f":"SUM(M8:M9)","v":83},{"$f":"SUM(N8:N9)","v":50},{"$f":"SUM(O8:O9)","v":40}]
[]
["1.  Appropriate Management Levels, indicates estimated AML.",null,null,null," "]
["2.  AML is reported as the maxium number of animals sustainable on a yearlong basis."]
["3.  Horses on the FS winter on BLM but spend the rest of the time on FS land.  Numbers will fluctuate with the weather and range conditions."]
[]
["HERD AREAS (HAs) - AREAS NOT MANAGED FOR WILD HORSES AND BURROS"]
[]
[null,null,"HERD"," AREA    ",null,null,"Last"]
[null,"Herd","BLM","Other","Estimated","Estimated","Gather"]
["HERD AREA NAME","Code","Acres"," Acres","Horse Pop","Burro Pop","Mo/Year"]
["GODFREY HILLS","NM0002",9405,17701,0,0]
["PUNCHE VALLEY","NM0004",54743,16066,0,0]
["OUTSIDE OF HERD AREAS","NM000Z",null,null,0,0,"1995-04-01"]
["TOTAL",null,{"$f":"SUM(C21:C23)","v":64148},{"$f":"SUM(D21:D23)","v":33767},{"$f":"SUM(E21:E23)","v":0},{"$f":"SUM(F21:F23)","v":0}]
[" ",null,null,null," "," "]
[null,null,"HERD"," AREA","  HERD MANAGEMENT AREA"]
[null,null,"BLM","Other","BLM","Other","Horse","Estimated","Burro ","Estimated"]
[" ",null,"Acres"," Acres","Acres"," Acres","AML","Horse Pop","AML","Burro Pop"]
["NEW MEXICO SUMMARY"," ",{"$f":"SUM(C10+C24)","v":88653},{"$f":"SUM(D10+D24)","v":37874},{"$f":"SUM(E10)","v":24505},{"$f":"SUM(F10)","v":4107},{"$f":"SUM(G10)","v":83},{"$f":"SUM(E24+H10)","v":89},{"$f":"SUM(I10)","v":0},{"$f":"SUM(F24+J10)","v":0}]
[]
["NEW MEXICO SUMMARY",null," "]
["# of HMAs where WH&B AML is Established:",null,null,2]
["# of HMAs where WH&B AML is Estimated:",null,null,0]
["# of HMAs at AML:",null,null,1]
["# of HMAs with Zero AML:",null,null,0]
["* Only BLM acres displayed/Managed by USFS. ",null,null,1]
["** Only BLM acres displayed/Managed by BLM. ",null,null,0]
["*** Only BLM acres displayed/Not managed. ",null,null,0]

{"sheet":"Oregon","index":8,"n_rows":71,"n_cols":19,"rows_kept":71,"cut":false,"hidden":false,"merged":[]}
["OREGON WILD HORSE AND BURRO AREAS ADMINISTRATED BY THE BUREAU OF LAND MANAGEMENT",null,null,null,null,null,null,"FY 07",null," ",null,null,null,null,null,null,null,null,"YEAR AML "]
[null,null,null,null,null,null,null,null,null,null,null,null,null,null,null,"        RANGE OF AML"]
["HERD MANAGEMENT AREAS (HMAs) - AREAS MANAGED FOR WILD HORSES AND BURROS",null,null,null,null,null,null,null,null,null,null,null,null,null,null,"HIGH"]
[null,null," ",null," "," ",null,null,null,null,null,null,null,null,null,"YEAR AML "]
[null,null,"          HERD AREA",null,"  HERD MANAGEMENT AREA",null,null,null,null,null,"Last","Year","        RANGE OF AML",null,null,"WAS"]
[null,"Herd","BLM","Other","BLM","Other","Horse","Estimated","Burro","Estimated","Gather","Reach","HIGH","MID","LOW","ESTABLISHED"]
["HERD AREA NAME","Code","Acres"," Acres"," Acres"," Acres"," AML (1,2) ","Horse Pop"," AML (1,2)","Burro Pop","Mo/Year","AML"]
["BEATYS BUTTE","OR0002",399185,38837,399185,38837,250,151,0,0,"2004-08-01",2004,140,107,73,1987]
["COLD SPRING","OR0013",29877,2788,29877,2788,150,90,0,0,"2005-07-01",2005,250,175,100,2003]
["COYOTE LAKE/ALVORD TULE SPRINGS","OR0014",611976,46976,552780,35649,390,232,0,0,"2006-02-01",2006,150,113,75,2002]
["HOG CREEK","OR0011",21816,566,21816,566,50,85,0,0,"2003-09-01",2003,250,188,125,2002]
["JACKIES BUTTE","OR0015",120900,2867,65211,40,150,145,0,0,"2000-09-01",2003,302,232,161,2002]
["KIGER","OR0010",26863,11496,26626,3674,82,128,0,0,"2003-11-01",2004,50,40,30,2002]
["LIGGETT TABLE","OR0037",28139,714,28139,714,25,32,0,0,"2006-07-01",2006,150,113,75,2002]
["PAISLEY DESERT","OR0001",328050,7698,297764,6210,150,170,0,0,"2003-11-01",2004,82,67,51,1992]
["PALOMINO BUTTES","OR0006",85200,12805,71415,2816,64,43,0,0,"2005-09-01",2005,25,18,10,1989]
["POKEGAMA","OR0018",15903,54603,15903,54603,50,43,0,0,"2000-06-01",2002,110,85,60,2003]
["RIDDLE MOUNTAIN","OR0009",29858,71810,28239,4426,56,66,0,0,"2003-09-01",2003,64,48,32,1992]
["SAND SPRINGS","OR0017",193052,14201,193052,14201,200,35,0,0,"2006-09-01",2006,50,40,30,1996]
["SHEEPSHEAD/HEATH CREEK (3)","OR0016",198749,6527,198749,6527,302,300,0,0,"2002-01-01",2002,56,45,33,1992]
["SOUTH STEENS","OR0003",186348,94367,126424,8034,304,229,0,0,"2004-11-01",2005,200,150,100,2002]
["STINKINGWATER","OR0008",78196,13925,78196,13925,80,48,0,0,"2005-09-01",2005,null,null,null,2002]
["THREE FINGERS","OR0012",82259,10423,61893,9593,150,75,0,0,"2006-08-01",2006,304,232,159,1987]
["WARM SPRINGS","OR0007",474196,25258,474196,25258,202,123,25,15,"2006-09-01",2006,80,60,40,1992]
["MURDERERS CREEK*","OR0019",33944,31865,33944,31865,35,97,0,0,"2005-02-01",2005,150,113,75,2002]
["TOTAL",null,{"$f":"SUM(C8:C25)","v":2944511},447726,2703409,259726,2690,2092,25,15,null,null,202,157,111,1992]
[null,null,null,null,null,null,null,null,null,null,null,null,35,null,null,1990]
["1.  Appropriate Management Levels, indicates estimated AML.",null,null,null,null,null,null,null,null,null,null,null,{"$f":"SUM(M8:M27)","v":2650},{"$f":"SUM(N8:N27)","v":1983},{"$f":"SUM(O8:O27)","v":1340}]
["2.  AML is reported as the maxium number of animals sustainable on a yearlong basis."]
["3.  Heath Creek-Sheepshead (OR004) was combined with Sheepshead (OR016) in the Southeast Oregon RMP, Sept. 2002."]
["4.  Coyote Lake was combined with Alvord Tule Springs in the Andrews Management Unit RMP, 2005."]
[]
["HERD AREAS (HAs) - AREAS NOT MANAGED FOR WILD HORSES AND BURROS"]
[]
[null,null,"HERD"," AREA    ",null,null,"Last"]
[null,"Herd","BLM","Other","Estimated","Estimated","Gather"]
["HERD AREA NAME","Code","Acres"," Acres","Horse Pop","Burro Pop","Mo/Year"]
["ALVORD TULE SPRINGS","OR0005",0,0,0,0]
["ATTURBURY","OR0028",7837,1777,0,0]
["BASQUE","OR0025",8555,824,0,0]
["CHERRY CREEK","OR0021",35473,103538,0,0]
["COTTONWOOD BASIN","OR0026",7782,261,0,0]
["COTTONWOOD CREEK","OR0027",24282,467,0,0]
["DIAMOND CRATERS","OR0031",41025,13492,0,0]
["EAST WAGONTIRE","OR0034",111725,84229,0,0]
["HEATH CREEK-SHEEPSHEAD (in OR0016)","OR0004",0,0,0,0]
["LAKERIDGE","OR0023",3978,377,0,0]
["MIDDLE FORK","OR0032",37339,5943,0,0]
["MORGER","OR0030",184,26670,0,0]
["POTHOLES","OR0024",9225,1032,0,0,"1990-12-01"]
["PUEBLO-LONE MOUNTAIN","OR0036",229486,3320,0,0,"1992-11-01"]
["RHODES CANYON","OR0022",14779,24223,0,0]
["SECOND FLAT","OR0033",9159,545,0,0]
["SOUTH CATLOW","OR0035",42457,54761,0,0]
["STOCKADE","OR0029",32138,16065,0,0]
["OUTSIDE HERD AREAS ","OR000Z",null,null,0,0,"1995-11-01"]
["TOTAL"," ",{"$f":"SUM(C39:C55)","v":615424},{"$f":"SUM(D39:D55)","v":337524},0,0]
[]
[null,null,"HERD","AREA","   HERD MANAGEMENT AREA"]
[null,null,"BLM","Other","BLM","Other","Horse","Estimated","Burro ","Estimated"]
[" ",null,"Acres"," Acres","Acres"," Acres","AML","Horse Pop","AML","Burro Pop"]
["OREGON SUMMARY"," ",{"$f":"SUM(C57+C26)","v":3559935},{"$f":"SUM(D57+D26)","v":785250},{"$f":"SUM(E26)","v":2703409},{"$f":"SUM(F26)","v":259726},{"$f":"SUM(G26)","v":2690},{"$f":"SUM(H26+E57)","v":2092},{"$f":"SUM(I26)","v":25},{"$f":"SUM(J26+F57)","v":15}]
[]
["OREGON SUMMARY"," "," "]
["# of HMAs where WH&B AML is Established:",null,18]
["# of HMAs where WH&B AML is Estimated:",null,0]
["# of HMAs at AML:",null,12]
["# of HMAs with Zero AML:",null,0]
["* Only BLM acres displayed/Managed by USFS. ",null,1]
["** Only BLM acres displayed/Managed by BLM. ",null,0]
["*** Only BLM acres displayed/Not managed. ",null,0]

{"sheet":"Utah","index":9,"n_rows":66,"n_cols":17,"rows_kept":66,"cut":false,"hidden":false,"merged":[]}
["UTAH WILD HORSE AND BURRO HERD AREAS ADMINISTERED BY BUREAU OF LAND MANAGEMENT",null,null,null,null,null,null,null,"FY 07",null," "]
[]
["HERD MANAGEMENT AREAS (HMAs) - AREAS MANAGED FOR WILD HORSES AND BURROS"]
[null,null,null,null,null,null,null,null,null,null,null,null,null,null,null,null,"YEAR AML"]
[null,null,"          HERD","AREA","HERD MANAGEMENT AREA",null,"Acres","Horse","Estimated","Burro","Estimated","Last","Year","        RANGE OF AML",null,null,"WAS"]
[null,"Herd","BLM","Other","BLM","Other","Transferred"," AML (1,2) ","Horse Pop"," AML (1,2)","Burro Pop","Gather","Reach","HIGH","MID","LOW","ESTABLISHED"]
["HERD AREA NAME","Code","Acres"," Acres"," Acres"," Acres","from BLM",null,null,null,null,"Mo/Year","AML"]
["BIBLE SPRING (3)","UT0440",139464,17071,136256,16306,0,60,40,0,0,"2005-10-01",2006,30,null,null,1983]
["CANYON LANDS","UT0571",77253,10448,77253,10448,0,0,0,100,83,"1984-05-01",2003,65,null,null,1983]
["CEDAR MOUNTAIN","UT0241",300032,111591,197252,14333,0,390,355,0,0,"2004-09-01",2004,75,null,null,2001]
["CHLORIDE CANYON","UT0442",44285,21123,42560,21123,0,30,59,0,0,"2004-07-01",2004,390,273,190,2003]
["CHOKE CHERRY","UT0443",39760,8360,39171,8349,0,30,20,0,0,"2007-02-01",2007,30,null,null,1986]
["CONFUSION","UT0552",255753,37770,255753,37770,0,115,142,0,0,"2004-09-01",2004,30,null,null,1983]
["CONGER","UT0553",151504,19438,151504,19438,0,80,70,0,0,"2006-08-01",2006,115,null,null,1997]
["FOUR MILE (3)","UT0444",52984,8289,50857,7853,0,60,35,0,0,"2005-10-01",2006,80,60,40,1987]
["FRISCO","UT0445",48743,11623,46508,11495,0,60,54,0,0,"2006-08-01",2006,90,null,null,1983]
["HILL CREEK","UT0852",103206,32919,54245,32919,48961,195,310,0,0,"2003-07-01",2003,60,null,null,1983]
["KINGTOP","UT0554",161566,9898,161566,9898,0,40,10,0,0,"2000-08-01",2002,195,null,null,1985]
["MOUNT ELINOR","UT0446",37370,5240,34036,4127,0,25,15,0,0,"2007-02-01",2007,40,30,20,1987]
["MUDDY CREEK","UT0651",168853,21879,168853,21879,0,50,74,0,0,"2001-07-01",2001,25,null,null,1983]
["NORTH HILLS**","UT0447",50075,10534,40647,9213,0,36,52,0,0,"2002-07-01",2002,50,null,30,1991]
["ONAQUI MOUNTAIN","UT0242",375847,131741,206795,33251,0,210,166,0,0,"2005-08-01",2005,60,null,40,1983]
["RANGE CREEK","UT0641",54630,24010,54630,24010,0,125,76,0,0,"2006-07-01",2006,210,159,121,2003]
["ROBBERS ROOST","UT0653",150755,19151,150755,19151,0,25,21,0,0,"2003-08-01",2003,125,100,75,1994]
["SINBAD","UT0652",203767,26830,203767,26830,0,50,65,70,112,"2001-09-01",2001,25,null,15,1991]
["SULPHUR","UT0448",230125,36992,230125,35496,0,250,413,0,0,"2006-08-01",2003,"50H 70B",null,"30H 50B",1993]
["SWASEY","UT0555",128174,6781,128174,6781,0,100,250,0,0,"2003-09-01",2003,250,null,null,1987]
["TILLY CREEK (3)","UT0449",32974,4032,32019,3944,0,50,40,0,0,"2002-09-01",2002,100,null,null,1997]
["                                   TOTAL",null,{"$f":"SUM(C8:C28)","v":2807120},575720,2462726,374614,48961,1981,2267,170,195,null,null,50,null,null,1983]
[null,null,null,null,null,null,null,null,null,null,null,null,null,2215]
["1.  Appropriate Management Levels, indicates estimated AML."]
["2.  AML is reported as the maxium number of animals sustainable on a yearlong basis."]
["3.  Herd areas managed in Bible Springs Complex include Bible Springs, Four Mile, and Tilly Creek.  "]
[]
["HERD AREAS (HAs) - AREAS NOT MANAGED FOR WILD HORSES AND BURROS"]
[]
[null,null,"          HERD","AREA    ","Acres",null,null,"Last"]
[null,"Herd","BLM","Other","Transferred","Estimated","Estimated","Gather"]
["HERD AREA NAME","Code","Acres"," Acres","from BLM","Horse Pop","Burro Pop","Mo/Year"]
["BLAWN WASH (4)","UT0441",35744,27043,20861,35,0,"2005-10-01"]
["BONANZA","UT0851",120580,21224,0,0,0,"2001-11-01"]
["BURBANK","UT0551",58447,7016,0,0,0]
["HARVEYS FEAR","UT0461",18099,0,12474,15,0,"1985-06-01"]
["MOODY-WAGON BOX MESA","UT0481",71452,0,17685,0,0]
["OQUIRRH MOUNTAIN","UT0243",80489,50253,0,5,0,"1995-01-01"," "," "]
["WINTER RIDGE","UT0853",38916,7508,0,150,0,"2003-07-01"]
["BIG CREEK***","UT0244",5331,412,0,10,0]
["OUTSIDE HERD AREAS","UT000Z",null,null,0,61,0,"2005-07-01"]
["                                    TOTAL",null,{"$f":"SUM(C40:C48)","v":429058},{"$f":"SUM(D40:D48)","v":113456},{"$f":"SUM(E40:E48)","v":51020},{"$f":"SUM(F40:F48)","v":276},0]
[]
["4.  Blawn Wash reverted back to HA status due to Utah  West Desert Land Exchange, 2000."]
["5. Outside herd areas include: North Hills (17); Mineral Range (19); Partoun (50; and South Onaqui (8) = 61."]
[]
[null,null,"          HERD","AREA"," HERD MANAGEMENT AREA",null,"Acres"]
[" ",null,"BLM","Other","BLM","Other","Transferred","Horse","Estimated","Burro ","Estimated"]
[null,null,"Acres"," Acres"," Acres"," Acres","from BLM","AML","Horse Pop","AML","Burro Pop"]
["                 UTAH SUMMARY"," ",{"$f":"C49+C29","v":3236178},{"$f":"D49+D29","v":689176},{"$f":"E29","v":2462726},{"$f":"F29","v":374614},{"$f":"E49+G29","v":99981},{"$f":"H29","v":1981},{"$f":"I29+F49","v":2543},{"$f":"J29","v":170},{"$f":"K29+G49","v":195}]
[]
["UTAH SUMMARY"]
["# of HMAs where WH&B AML is Established:",null,null,21]
["# of HMAs where WH&B AML is Estimated:",null,null,0]
["# of HMAs at AML:",null,null,13]
["# of HMAs with Zero AML:",null,null,0]
["* Only BLM acres displayed/Managed by USFS. ",null,null,0]
["** Only BLM acres displayed/Managed by BLM. ",null,null,1]
["*** Only BLM acres displayed/Not managed. ",null,null,1]

{"sheet":"Wyoming","index":10,"n_rows":77,"n_cols":16,"rows_kept":77,"cut":false,"hidden":false,"merged":[]}
["WYOMING WILD HORSE AND BURRO AREAS ADMINISTRATED BY THE BUREAU OF LAND MANAGEMENT",null,null,null,null,null,null,"FY 07"]
[]
["HERD MANAGEMENT AREAS (HMAs) - AREAS MANAGED FOR WILD HORSES AND BURROS"]
[null,null,null,null,null,null,null,null,null,null,null,null,null,null,null,"YEAR AML "]
[null,null,"          HERD","AREA","HERD MANAGEMENT AREA",null,null,null,null,null,"Last","Year","        RANGE OF AML",null,null,"WAS"]
[null,"Herd","BLM","Other","BLM","Other","Horse","Estimated","Burro","Estimated","Gather","Reach","HIGH","MID","LOW","ESTABLISHED"]
["HERD AREA NAME","Code","Acres"," Acres"," Acres"," Acres"," AML (1,2) ","Horse Pop"," AML (1,2)","Burro Pop","Mo/Year","AML"]
["ADOBE TOWN ","WY0009",444321,34757,444321,34757,800,577,0,0,"2007-01-01",2007,800,700,610,1994]
["ANTELOPE HILLS","WY0031",156233,9252,150896,7796,82,86,0,0,"2004-10-01",2005,82,70,60,1994]
["CONANT CREEK","WY0029 ",50518,8313,49528,8190,100,112,0,0,"2004-10-01",2005,100,80,60,1993]
["CROOKS MOUNTAIN","WY0036",75821,8045,54726,3698,85,60,0,0,"2006-09-01",2006,85,75,65,1994]
["DISHPAN BUTTE","WY0028",101425,8910,92275,7466,100,142,0,0,"2004-10-01",2005,100,75,50,1993]
["DIVIDE BASIN ","WY0002",561453,217507,561453,217507,600,752,0,0,"2006-09-01",2004,600,500,415,1997]
["FIFTEENMILE","WY0011",218077,44098,68673,12536,160,115,0,0,"2004-07-01",2004,160,115,70,1998]
["GREEN MOUNTAIN","WY0037",115959,26950,99311,17363,300,163,0,0,"2006-08-01",2006,300,235,170,1993]
["LITTLE COLORADO","WY0039",530698,105020,527307,105020,100,152,0,0,"2003-11-01",2004,100,100,69,1997]
["LOST CREEK ","WY0035",236353,15041,236353,15041,82,117,0,0,"2006-08-01",2006,82,70,60,1994]
["MCCULLOUGH PEAKS","WY0012",118665,30631,103920,5928,140,141,0,0,"2004-10-01",2005,140,105,70,1990]
["MUSKRAT BASIN","WY0027",180939,20585,176340,16922,250,305,0,0,"2004-10-01",2005,250,205,160,1993]
["ROCK CREEK MOUNTIAN","WY0026",19125,5483,19100,5483,86,62,0,0,"2001-09-01",2001,86,68,50,1993]
["SALT WELLS CREEK","WY0001",918317,516502,688632,483993,365,327,0,0,"2007-01-01",2005,365,308,251,1997]
["STEWART CREEK ","WY0033",184745,29330,157514,10329,175,145,0,0,"2006-08-01",2006,175,150,125,1994]
["WHITE MOUNTAIN ","WY0003",207981,185092,207981,185092,300,681,0,0,"2003-11-01",2004,300,250,205,1997]
["                                                            TOTAL",null,{"$f":"SUM(C8:C23)","v":4120630},1265516,3638330,1137121,3725,3937,{"$f":"SUM(I3:I23)","v":0},{"$f":"SUM(J3:J23)","v":0},null,null,{"$f":"SUM(M8:M23)","v":3725},{"$f":"SUM(N8:N23)","v":3106},{"$f":"SUM(O8:O23)","v":2490}]
[]
["1.  Appropriate Management Levels, indicates estimated AML."]
["2.  AML is reported as the maxium number of animals sustainable on a yearlong basis.",null,null,null,null,null,null,null,null,null," "]
[]
["HERD AREAS (HAs) - AREAS NOT MANAGED FOR WILD HORSES AND BURROS"]
[]
[null,null,"HERD"," AREA    ",null,null,"Last"]
[null,"Herd","BLM","Other","Estimated","Estimated","Gather"]
["HERD AREA NAME","Code","Acres"," Acres","Horse Pop","Burro Pop","Mo/Year"]
["ALKALI SPRING CREEK","WY0020",2522,2659,0,0]
["ARAPAHO CREEK","WY0034",168558,17160,0,0]
["BOLTEN","WY0025",61714,83681,0,0]
["CARTER LEASE","WY0017",123254,173299,0,0]
["CHECKERBOARD SOUTH","WY0040",324123,357472,0,0]
["CONTINENTAL PEAK (in WY0002 & WY0035)","WY0043",366152,27926,0,0]
["COPPER MOUNTAIN","WY0041",20029,8962,0,0]
["CUMBERLAND","WY0015",241462,180995,0,0,"1990-04-01"]
["CYCLONE RIM (in WY0035)","WY0010",0,0,0,0]
["DEER CREEK","WY0024",6477,54767,0,0]
["DESERT","WY0004",152386,8116,0,0,"2001-11-01"]
["DOTY MOUNTAIN/CHEROKEE","WY0032",243326,205909,0,0]
["EAST BEAVER","WY0030",31390,6244,0,0]
["FOSTER GULCH/DRY CREEK","WY0023",110938,6576,0,0]
["GOLD CREEK","WY0014",29737,9902,0,0]
["GRANGER LEASE","WY0005",171443,199015,0,0,"1986-04-01"]
["LA BARGE","WY0006",133030,21233,0,0,"1988-07-01"]
["NORTH GRANGER","WY0018",132366,96887,0,0]
["NORTH SHOSHONE","WY0019",20342,4452,0,0]
["ROCK SPRINGS (in WY0009, WY0002, WY0003, WY0001)","WY0038",156084,208520,0,0]
["SAND CREEK EAST (in WY0009)","WY0042",168848,13091,0,0]
["SAND CREEK WEST (in WY0009)","WY0044",18649,3338,0,0]
["SAND DRAW","WY0021",13758,1561,0,0]
["SLATE CREEK","WY0016",173979,32473,0,0]
["TRIANGLE","WY0013",295057,39496,0,0]
["ZIMMERMAN SPRINGS","WY0022",11524,760,0,0]
["OUTSIDE OF HERD AREAS","WY000Z",null,null,140,0,"2005-08-01"," "," "," "]
["                                                            TOTAL",null,{"$f":"SUM(C34:C60)","v":3177148},{"$f":"SUM(D34:D59)","v":1764494},{"$f":"SUM(E34:E60)","v":140},{"$f":"SUM(F34:F60)","v":0}]
["LANDER (in WY0026, WY0027, WY0028, WY0029) ","WY0007"," "," ",null,null,"1992-11-01"]
["STEWART CREEK/CHAIN LAKES (in WY0001, WY0033, WY0035)","WY0008"]
[]
[null,null,"HERD","AREA","   HERD MANAGEMENT AREA"]
[null,null,"BLM","Other","BLM","Other","Horse","Estimated","Burro ","Estimated"]
[" ",null,"Acres"," Acres","Acres"," Acres","AML","Horse Pop","AML","Burro Pop"]
["WYOMING SUMMARY"," ",{"$f":"SUM(C24+C61)","v":7297778},{"$f":"SUM(D24+D61)","v":3030010},{"$f":"SUM(E24)","v":3638330},{"$f":"SUM(F24)","v":1137121},{"$f":"SUM(G24)","v":3725},{"$f":"SUM(H24+E61)","v":4077},{"$f":"SUM(I24)","v":0},{"$f":"SUM(J24+F61)","v":0}]
[]
["WYOMING SUMMARY"]
["# of HMAs where WH&B AML is Established:",null,16]
["# of HMAs where WH&B AML is Estimated:",null,0]
["# of HMAs at AML:",null,8]
["# of HMAs with Zero AML:",null,0]
["* Only BLM acres displayed/Managed by USFS. ",null,0]
["** Only BLM acres displayed/Managed by BLM. ",null,0]
["*** Only BLM acres displayed/Not managed. ",null,0]

{"sheet":"National","index":11,"n_rows":36,"n_cols":7,"rows_kept":36,"cut":false,"hidden":false,"merged":[[0,0,0,4]]}
["WILD HORSE AND BURRO HERD AREAS ADMINISTERED BY BLM"]
["FY 07"]
[]
["                                          SUMMARY OF BLM ACRES"]
["BLM ACRES",{"$f":"Arizona!E36+California!E63+Colorado!E32+Idaho!E34+Montana!E31+Nevada!#REF!+New_Mexico!E29+Oregon!E62+Utah!E57+Wyoming!E68","v":{"$error":"#REF!"}}]
["NON-BLM ACRES",{"$f":"Arizona!F36+California!F63+Colorado!F32+Idaho!F34+Montana!F31+Nevada!#REF!+New_Mexico!F29+Oregon!F62+Utah!F57+Wyoming!F68","v":{"$error":"#REF!"}}]
["TOTAL HERD MANAGEMENT AREA ACRES",{"$f":"SUM(B5:B6)","v":{"$error":"#REF!"}}]
["TOTAL HERD AREA ACRES",{"$f":"'HA Acreages'!D18","v":{"$error":"#REF!"}}]
[" "]
[]
["                                                               SUMMARY OF MANAGEMENT STATUS"]
[null,null,null,"Entire HAs Remaining"]
[null,"HAs","HMAs","Undesignated"]
["ARIZONA",11,7,4]
["CALIFORNIA",33,22,15]
["COLORADO",8,4,3]
["IDAHO",9,6,3]
["MONTANA",7,1,6]
["NEVADA",143,102,30]
["NEW MEXICO",4,2,2]
["OREGON",36,18,15]
["UTAH",29,21,7]
["WYOMING",38,16,21]
["TOTAL",{"$f":" SUM(B14:B23)","v":318},{"$f":" SUM(C14:C23)","v":199},{"$f":" SUM(D14:D23)","v":106}]
["Numbers of remaining HAs and HMAs cannot be totaled due to the combining and splitting of HAs to form HMAs."]
[]
["                                                                          SUMMARY OF ANIMAL POPULATIONS"]
[null,null,"Estimated",null,"Estimated"]
[null,"Horse AML","Horse Pop","Burro AML","Burro Pop"]
["BLM WH&B TOTAL",{"$f":"Arizona!G36+California!H63+Colorado!G32+Idaho!G34+Montana!G31+Nevada!#REF!+New_Mexico!G29+Oregon!G62+Utah!H57+Wyoming!G68","v":{"$error":"#REF!"}},{"$f":"Arizona!H36+California!I63+Colorado!H32+Idaho!H34+Montana!H31+Nevada!#REF!+New_Mexico!H29+Oregon!H62+Utah!I57+Wyoming!H68","v":{"$error":"#REF!"}},{"$f":"Arizona!I36+California!J63+Colorado!I32+Idaho!I34+Montana!I31+Nevada!#REF!+New_Mexico!I29+Oregon!I62+Utah!J57+Wyoming!I68","v":{"$error":"#REF!"}},{"$f":"Arizona!J36+California!K63+Colorado!J32+Idaho!J34+Montana!J31+Nevada!#REF!+New_Mexico!J29+Oregon!J62+Utah!K57+Wyoming!J68","v":{"$error":"#REF!"}}]
[]
["FY 2007 BLM WH&B POPULATION",null,{"$f":"C30+E30","v":{"$error":"#REF!"}}]
["BLM WH&B APPROPRIATE MANAGEMENT LEVEL",null,{"$f":"B30+D30","v":{"$error":"#REF!"}}]
["FY 2007 BLM EXCESS WH&B's",null,{"$f":"C32-C33","v":{"$error":"#REF!"}}]
[null,null,null,null,null,null," "]
[null,null,null,null,null,null," "]